Workbook

Sheet 以人民币计价
A2: 2020年银行结售汇数据（按交易项目）
A3: 单位：亿元人民币
A4: 项目 | C4: 43831 | D4: 43863 | E4: 43893 | F4: 43925 | G4: 43956 | H4: 43988 | I4: 44019 | J4: 44051 | K4: 44083 | L4: 44114 | M4: 44146 | N4: 44177 | O4: 合计
A5: 一、结汇 | C5: 10066.78 | D5: 10342.864 | E5: 13888.382 | F5: =以美元计价!F5*7.0686 -> 11114.981 | G5: =以美元计价!G5*7.0995 -> 10795.789 | H5: =以美元计价!H5*7.0863 -> 10815.864 | O5: =SUM(C5:N5) -> 67024.66
A6: (一）银行自身 | C6: 927.5763 | D6: 2653.4981 | E6: 2845.2579 | F6: =以美元计价!F6*7.0686 -> 1371.0454 | G6: =以美元计价!G6*7.0995 -> 1026.1021 | H6: =以美元计价!H6*7.0863 -> 1241.254 | O6: =SUM(C6:N6) -> 10064.734
A7: (二）银行代客 | C7: 9139.2039 | D7: 7689.3659 | E7: 11043.124 | F7: =以美元计价!F7*7.0686 -> 9743.9357 | G7: =以美元计价!G7*7.0995 -> 9769.6873 | H7: =以美元计价!H7*7.0863 -> 9574.6096 | O7: =SUM(C7:N7) -> 56959.926
A8: 1.经常项目 | C8: 7868.1856 | D8: 6688.9579 | E8: 8934.3442 | F8: =以美元计价!F8*7.0686 -> 8213.2431 | G8: =以美元计价!G8*7.0995 -> 8458.9016 | H8: =以美元计价!H8*7.0863 -> 7847.8328 | O8: =SUM(C8:N8) -> 48011.465
A9: 1.1货物贸易 | C9: 6938.4407 | D9: 5973.4869 | E9: 7801.8081 | F9: =以美元计价!F9*7.0686 -> 7122.4557 | G9: =以美元计价!G9*7.0995 -> 7597.5179 | H9: =以美元计价!H9*7.0863 -> 7030.9489 | O9: =SUM(C9:N9) -> 42464.658
A10: 1.2服务贸易 | C10: 662.14805 | D10: 565.24145 | E10: 804.50684 | F10: =以美元计价!F10*7.0686 -> 864.142 | G10: =以美元计价!G10*7.0995 -> 631.09372 | H10: =以美元计价!H10*7.0863 -> 576.51019 | O10: =SUM(C10:N10) -> 4103.6423
A11: 1.3收益和经常转移 | C11: 267.59685 | D11: 150.22957 | E11: 328.0293 | F11: =以美元计价!F11*7.0686 -> 226.64547 | G11: =以美元计价!G11*7.0995 -> 230.29003 | H11: =以美元计价!H11*7.0863 -> 240.37367 | O11: =SUM(C11:N11) -> 1443.1649
A12: 2.资本与金融项目 | C12: 1271.0183 | D12: 1000.4079 | E12: 2108.7798 | F12: =以美元计价!F12*7.0686 -> 1530.6926 | G12: =以美元计价!G12*7.0995 -> 1310.7857 | H12: =以美元计价!H12*7.0863 -> 1726.7768 | O12: =SUM(C12:N12) -> 8948.4612
A13: 其中: 直接投资 | C13: 731.72811 | D13: 483.08962 | E13: 914.69114 | F13: =以美元计价!F13*7.0686 -> 761.02597 | G13: =以美元计价!G13*7.0995 -> 468.83962 | H13: =以美元计价!H13*7.0863 -> 633.2509 | O13: =SUM(C13:N13) -> 3992.6254
A14: 证券投资 | C14: 372.25919 | D14: 391.84639 | E14: 970.95392 | F14: =以美元计价!F14*7.0686 -> 599.09142 | G14: =以美元计价!G14*7.0995 -> 638.89181 | H14: =以美元计价!H14*7.0863 -> 911.67588 | O14: =SUM(C14:N14) -> 3884.7186
A15: 二、售汇 | C15: 9625.0703 | D15: 9359.2425 | E15: 12583.864 | F15: =以美元计价!F15*7.0686 -> 10067.994 | G15: =以美元计价!G15*7.0995 -> 9102.8504 | H15: =以美元计价!H15*7.0863 -> 10755.364 | O15: =SUM(C15:N15) -> 61494.385
A16: (一）银行自身 | C16: 1058.9211 | D16: 1712.8296 | E16: 2356.8097 | F16: =以美元计价!F16*7.0686 -> 1173.2519 | G16: =以美元计价!G16*7.0995 -> 762.0724 | H16: =以美元计价!H16*7.0863 -> 964.70833 | O16: =SUM(C16:N16) -> 8028.593
... A24: 证券投资 | C24: 259.33678 | D24: 378.8554 | E24: 846.80823 | F24: =以美元计价!F24*7.0686 -> 528.09864 | G24: =以美元计价!G24*7.0995 -> 253.40529 | H24: =以美元计价!H24*7.0863 -> 409.42303 | O24: =SUM(C24:N24) -> 2675.9274
A25: 三、远期结售汇签约额 | B25: 结汇 | C25: 992.00289 | D25: 1585.9501 | E25: 2249.5725 | F25: =以美元计价!F25*7.0686 -> 911.48113 | G25: =以美元计价!G25*7.0995 -> 1258.3409 | H25: =以美元计价!H25*7.0863 -> 1042.6867 | O25: =SUM(C25:N25) -> 8040.0343
B26: 售汇 | C26: 369.79106 | D26: 485.03907 | E26: 1084.4899 | F26: =以美元计价!F26*7.0686 -> 618.7393 | G26: =以美元计价!G26*7.0995 -> 716.94585 | H26: =以美元计价!H26*7.0863 -> 660.81094 | O26: =SUM(C26:N26) -> 3935.8161
B27: 差额 | C27: 622.21183 | D27: 1100.9111 | E27: 1165.0826 | F27: =以美元计价!F27*7.0686 -> 292.74183 | G27: =以美元计价!G27*7.0995 -> 541.39509 | H27: =以美元计价!H27*7.0863 -> 381.87575 | O27: =SUM(C27:N27) -> 4104.2181
A28: 四、远期结售汇平仓额 | B28: 差额 | C28: 41.784555 | D28: 18.289759 | E28: 154.68882 | F28: =以美元计价!F28*7.0686 -> -139.77308 | G28: =以美元计价!G28*7.0995 -> -14.996984 | H28: =以美元计价!H28*7.0863 -> -166.4168 | O28: =SUM(C28:N28) -> -106.42372
A29: 五、远期结售汇展期额 | B29: 差额 | C29: -148.99595 | D29: -24.649256 | E29: -260.53556 | F29: =以美元计价!F29*7.0686 -> -79.581833 | G29: =以美元计价!G29*7.0995 -> -100.58856 | H29: =以美元计价!H29*7.0863 -> 26.341903 | O29: =SUM(C29:N29) -> -588.00925
A30: 六、本期末远期结售汇累计未到期额 | B30: 结汇 | C30: 5004.1837 | D30: 5492.7855 | E30: 6332.6454 | F30: =以美元计价!F30*7.0571 -> 5974.7363 | G30: =以美元计价!G30*7.1316 -> 6114.8813 | H30: =以美元计价!H30*7.071 -> 5808.5316 | O30: -
B31: 售汇 | C31: 4093.1595 | D31: 4213.4701 | E31: 4777.2201 | F31: =以美元计价!F31*7.0571 -> 4594.5595 | G31: =以美元计价!G31*7.1316 -> 4849.8296 | H31: =以美元计价!H31*7.071 -> 4644.1161 | O31: -
B32: 差额 | C32: 911.02423 | D32: 1279.3155 | E32: 1555.4253 | F32: =以美元计价!F32*7.0571 -> 1380.1768 | G32: =以美元计价!G32*7.1316 -> 1265.0517 | H32: =以美元计价!H32*7.071 -> 1164.4155 | O32: -
A33: 七、未到期期权Delta净敞口 | C33: -2558.6332 | D33: -2599.0829 | E33: -2673.571 | F33: =以美元计价!F33*7.0571 -> -2934.9131 | G33: =以美元计价!G33*7.1316 -> -3053.1941 | H33: =以美元计价!H33*7.071 -> -3206.2742 | O33: -

Sheet 以美元计价
A2: 2020年银行结售汇数据（按交易项目）
A3: 单位：亿美元
A4: 项目 | C4: 43831 | D4: 43863 | E4: 43893 | F4: 43925 | G4: 43956 | H4: 43988 | I4: 44019 | J4: 44051 | K4: 44083 | L4: 44114 | M4: 44146 | N4: 44177 | O4: 合计
A5: 一、结汇 | C5: 1455.2838 | D5: 1479.1791 | E5: 1980.6874 | F5: 1572.4445 | G5: 1520.6408 | H5: 1526.3062 | O5: =SUM(C5:N5) -> 9534.5418
A6: (一）银行自身 | C6: 134.0932 | D6: 379.4886 | E6: 405.7756 | F6: 193.9628 | G6: 144.5316 | H6: 175.1625 | O6: =SUM(C6:N6) -> 1433.0143
A7: (二）银行代客 | C7: 1321.1906 | D7: 1099.6905 | E7: 1574.9118 | F7: 1378.4817 | G7: 1376.1092 | H7: 1351.1437 | O7: =SUM(C7:N7) -> 8101.5275
A8: 1.经常项目 | C8: 1137.4484 | D8: 956.6177 | E8: 1274.1688 | F8: 1161.9335 | G8: 1191.4785 | H8: 1107.4655 | O8: =SUM(C8:N8) -> 6829.1124
A9: 1.1货物贸易 | C9: 1003.0417 | D9: 854.295 | E9: 1112.6525 | F9: 1007.619 | G9: 1070.1483 | H9: 992.189 | O9: =SUM(C9:N9) -> 6039.9455
A10: 1.2服务贸易 | C10: 95.7221 | D10: 80.8377 | E10: 114.7345 | F10: 122.2508 | G10: 88.8927 | H10: 81.3556 | O10: =SUM(C10:N10) -> 583.7934
A11: 1.3收益和经常转移 | C11: 38.6846 | D11: 21.485 | E11: 46.7818 | F11: 32.0637 | G11: 32.4375 | H11: 33.9209 | O11: =SUM(C11:N11) -> 205.3735
A12: 2.资本与金融项目 | C12: 183.7422 | D12: 143.0728 | E12: 300.743 | F12: 216.5482 | G12: 184.6307 | H12: 243.6782 | O12: =SUM(C12:N12) -> 1272.4151
A13: 其中: 直接投资 | C13: 105.7808 | D13: 69.0888 | E13: 130.4484 | F13: 107.6629 | G13: 66.0384 | H13: 89.3627 | O13: =SUM(C13:N13) -> 568.382
A14: 证券投资 | C14: 53.8149 | D14: 56.0397 | E14: 138.4723 | F14: 84.7539 | G14: 89.9911 | H14: 128.6533 | O14: =SUM(C14:N14) -> 551.7252
A15: 二、售汇 | C15: 1391.4289 | D15: 1338.507 | E15: 1794.6439 | F15: 1424.3264 | G15: 1282.1819 | H15: 1517.7687 | O15: =SUM(C15:N15) -> 8748.8568
A16: (一）银行自身 | C16: 153.0808 | D16: 244.9594 | E16: 336.1157 | F16: 165.9808 | G16: 107.3417 | H16: 136.1371 | O16: =SUM(C16:N16) -> 1143.6155
... A24: 证券投资 | C24: 37.4905 | D24: 54.1818 | E24: 120.7673 | F24: 74.7105 | G24: 35.6934 | H24: 57.7767 | O24: =SUM(C24:N24) -> 380.6202
A25: 三、远期结售汇签约额 | B25: 结汇 | C25: 143.4069 | D25: 226.8138 | E25: 320.8221 | F25: 128.9479 | G25: 177.2436 | H25: 147.1412 | O25: =SUM(C25:N25) -> 1144.3755
B26: 售汇 | C26: 53.4581 | D26: 69.3676 | E26: 154.6642 | F26: 87.5335 | G26: 100.9854 | H26: 93.2519 | O26: =SUM(C26:N26) -> 559.2607
B27: 差额 | C27: 89.9488 | D27: 157.4462 | E27: 166.1579 | F27: 41.4144 | G27: 76.2582 | H27: 53.8893 | O27: =SUM(C27:N27) -> 585.1148
A28: 四、远期结售汇平仓额 | B28: 差额 | C28: 6.0405 | D28: 2.6157 | E28: 22.0609 | F28: -19.7738 | G28: -2.1124 | H28: -23.4843 | O28: =SUM(C28:N28) -> -14.6534
A29: 五、远期结售汇展期额 | B29: 差额 | C29: -21.5393 | D29: -3.5252 | E29: -37.1562 | F29: -11.2585 | G29: -14.1684 | H29: 3.7173 | O29: =SUM(C29:N29) -> -83.9303
A30: 六、本期末远期结售汇累计未到期额 | B30: 结汇 | C30: 726.5497 | D30: 783.9445 | E30: 893.7976 | F30: 846.6277 | G30: 857.4347 | H30: 821.4583 | O30: -
B31: 售汇 | C31: 594.2795 | D31: 601.3573 | E31: 674.2629 | F31: 651.0549 | G31: 680.0479 | H31: 656.7835 | O31: -
B32: 差额 | C32: 132.2702 | D32: 182.5872 | E32: 219.5347 | F32: 195.5728 | G32: 177.3868 | H32: 164.6748 | O32: -
A33: 七、未到期期权Delta净敞口 | C33: -371.484 | D33: -370.9478 | E33: -377.3512 | F33: -415.8809 | G33: -428.1219 | H33: -453.44 | O33: -
