Workbook

Sheet 以人民币计价
A2: 2022年银行结售汇数据（按交易项目）
A3: 单位：亿元人民币
A4: 项目 | C4: 44562 | D4: 44593 | E4: 44621 | F4: 44652 | G4: 44682 | H4: 44713 | I4: 44743 | J4: 44774 | K4: 44805 | L4: 44835 | M4: 44866 | N4: 44896 | O4: 合计
A5: 一、结汇 | C5: =以美元计价!C5*6.3588 -> 15398.534 | O5: =SUM(C5:N5) -> 15398.534
A6: (一）银行自身 | C6: =以美元计价!C6*6.3588 -> 656.33117 | O6: =SUM(C6:N6) -> 656.33117
A7: (二）银行代客 | C7: =以美元计价!C7*6.3588 -> 14742.202 | O7: =SUM(C7:N7) -> 14742.202
A8: 1.经常项目 | C8: =以美元计价!C8*6.3588 -> 12508.399 | O8: =SUM(C8:N8) -> 12508.399
A9: 1.1货物贸易 | C9: =以美元计价!C9*6.3588 -> 11289.514 | O9: =SUM(C9:N9) -> 11289.514
A10: 1.2服务贸易 | C10: =以美元计价!C10*6.3588 -> 938.4546 | O10: =SUM(C10:N10) -> 938.4546
A11: 1.3收益和经常转移 | C11: =以美元计价!C11*6.3588 -> 280.43007 | O11: =SUM(C11:N11) -> 280.43007
A12: 2.资本与金融项目 | C12: =以美元计价!C12*6.3588 -> 2233.8038 | O12: =SUM(C12:N12) -> 2233.8038
A13: 其中: 直接投资 | C13: =以美元计价!C13*6.3588 -> 966.47083 | O13: =SUM(C13:N13) -> 966.47083
A14: 证券投资 | C14: =以美元计价!C14*6.3588 -> 965.14184 | O14: =SUM(C14:N14) -> 965.14184
A15: 二、售汇 | C15: =以美元计价!C15*6.3588 -> 13632.194 | O15: =SUM(C15:N15) -> 13632.194
A16: (一）银行自身 | C16: =以美元计价!C16*6.3588 -> 1130.4414 | O16: =SUM(C16:N16) -> 1130.4414
... A24: 证券投资 | C24: =以美元计价!C24*6.3588 -> 841.16559 | O24: =SUM(C24:N24) -> 841.16559
A25: 三、远期结售汇签约额 | B25: 结汇 | C25: =以美元计价!C25*6.3588 -> 2311.1955 | O25: =SUM(C25:N25) -> 2311.1955
B26: 售汇 | C26: =以美元计价!C26*6.3588 -> 2507.4096 | O26: =SUM(C26:N26) -> 2507.4096
B27: 差额 | C27: =以美元计价!C27*6.3588 -> -196.21413 | O27: =SUM(C27:N27) -> -196.21413
A28: 四、远期结售汇平仓额 | B28: 差额 | C28: =以美元计价!C28*6.3588 -> -193.94594 | O28: =SUM(C28:N28) -> -193.94594
A29: 五、远期结售汇展期额 | B29: 差额 | C29: =以美元计价!C29*6.3588 -> -208.82236 | O29: =SUM(C29:N29) -> -208.82236
A30: 六、本期末远期结售汇累计未到期额 | B30: 结汇 | C30: =以美元计价!C30*6.3746 -> 10060.604 | O30: -
B31: 售汇 | C31: =以美元计价!C31*6.3746 -> 8740.9879 | O31: -
B32: 差额 | C32: =以美元计价!C32*6.3746 -> 1319.6161 | O32: -
A33: 七、未到期期权Delta净敞口 | C33: =以美元计价!C33*6.3746 -> 296.40998 | O33: -

Sheet 以美元计价
A2: 2022年银行结售汇数据（按交易项目）
A3: 单位：亿美元
A4: 项目 | C4: 44562 | D4: 44593 | E4: 44621 | F4: 44652 | G4: 44682 | H4: 44713 | I4: 44743 | J4: 44774 | K4: 44805 | L4: 44835 | M4: 44866 | N4: 44896 | O4: 合计
A5: 一、结汇 | C5: 2421.61 | O5: =SUM(C5:N5) -> 2421.61
A6: (一）银行自身 | C6: 103.2162 | O6: =SUM(C6:N6) -> 103.2162
A7: (二）银行代客 | C7: 2318.3938 | O7: =SUM(C7:N7) -> 2318.3938
A8: 1.经常项目 | C8: 1967.1005 | O8: =SUM(C8:N8) -> 1967.1005
A9: 1.1货物贸易 | C9: 1775.4158 | O9: =SUM(C9:N9) -> 1775.4158
A10: 1.2服务贸易 | C10: 147.5836 | O10: =SUM(C10:N10) -> 147.5836
A11: 1.3收益和经常转移 | C11: 44.1011 | O11: =SUM(C11:N11) -> 44.1011
A12: 2.资本与金融项目 | C12: 351.2933 | O12: =SUM(C12:N12) -> 351.2933
A13: 其中: 直接投资 | C13: 151.9895 | O13: =SUM(C13:N13) -> 151.9895
A14: 证券投资 | C14: 151.7805 | O14: =SUM(C14:N14) -> 151.7805
A15: 二、售汇 | C15: 2143.8312 | O15: =SUM(C15:N15) -> 2143.8312
A16: (一）银行自身 | C16: 177.7759 | O16: =SUM(C16:N16) -> 177.7759
... A24: 证券投资 | C24: 132.2837 | O24: =SUM(C24:N24) -> 132.2837
A25: 三、远期结售汇签约额 | B25: 结汇 | C25: 363.4641 | O25: =SUM(C25:N25) -> 363.4641
B26: 售汇 | C26: 394.3212 | O26: =SUM(C26:N26) -> 394.3212
B27: 差额 | C27: -30.8571 | O27: =SUM(C27:N27) -> -30.8571
A28: 四、远期结售汇平仓额 | B28: 差额 | C28: -30.5004 | O28: =SUM(C28:N28) -> -30.5004
A29: 五、远期结售汇展期额 | B29: 差额 | C29: -32.8399 | O29: =SUM(C29:N29) -> -32.8399
A30: 六、本期末远期结售汇累计未到期额 | B30: 结汇 | C30: 1578.233 | O30: -
B31: 售汇 | C31: 1371.2214 | O31: -
B32: 差额 | C32: 207.0116 | O32: -
A33: 七、未到期期权Delta净敞口 | C33: 46.4986 | O33: -
